View In:
ArcGIS JavaScript
ArcGIS Online Map Viewer
ArcGIS Earth
Service Description: simgeo/cone_snnv
Name: simgeo/cone_snnv
Description:
Single Fused Map Cache: false
Extent:
XMin: 706353.7560727843
YMin: 7087296.168306501
XMax: 707654.6605155835
YMax: 7088567.13290915
Spatial Reference: 31982
(31982)
LatestVCSWkid(0)
Initial Extent:
XMin: 706353.7560727843
YMin: 7087296.168306501
XMax: 707654.6605155835
YMax: 7088567.13290915
Spatial Reference: 31982
(31982)
LatestVCSWkid(0)
Full Extent:
XMin: 706353.7560727843
YMin: 7087296.168306501
XMax: 707654.6605155835
YMax: 7088567.13290915
Spatial Reference: 31982
(31982)
LatestVCSWkid(0)
Pixel Size X: 0.9999265509601546
Pixel Size Y: 0.9999721499993799
Band Count: 1
Pixel Type: F32
RasterFunction Infos: {"rasterFunctionInfos": [{
"name": "None",
"description": "",
"help": ""
}]}
Mensuration Capabilities: Basic
Has Histograms: true
Has Colormap: false
Has Multi Dimensions : false
Rendering Rule:
Min Scale: 0
Max Scale: 0
Copyright Text:
Service Data Type: esriImageServiceDataTypeGeneric
Min Values: 2.035662889480591
Max Values: 87.17396545410156
Mean Values: 54.553009101026085
Standard Deviation Values: 23.248558271550777
Object ID Field:
Fields:
None
Default Mosaic Method: Center
Allowed Mosaic Methods:
SortField:
SortValue: null
Mosaic Operator: First
Default Compression Quality: 75
Default Resampling Method: Bilinear
Max Record Count: null
Max Image Height: 4100
Max Image Width: 15000
Max Download Image Count: null
Max Mosaic Image Count: null
Allow Raster Function: true
Allow Copy: true
Allow Analysis: true
Allow Compute TiePoints: false
Supports Statistics: false
Supports Advanced Queries: false
Use StandardizedQueries: true
Raster Type Infos:
Name: Raster Dataset
Description: Supports all ArcGIS Raster Datasets
Help:
Has Raster Attribute Table: false
Edit Fields Info: null
Ownership Based AccessControl For Rasters: null
Child Resources:
Info
Histograms
Statistics
Key Properties
Legend
Raster Function Infos
Supported Operations:
Export Image
Identify
Measure
Compute Histograms
Compute Statistics Histograms
Get Samples
Compute Class Statistics
Query Boundary
Compute Pixel Location
Compute Angles
Validate
Project