{
 "currentVersion": 11.1,
 "serviceDescription": "simgeo/cone_snnv",
 "name": "simgeo/cone_snnv",
 "description": "",
 "extent": {
  "xmin": 706353.7560727843,
  "ymin": 7087296.168306501,
  "xmax": 707654.6605155835,
  "ymax": 7088567.13290915,
  "spatialReference": {
   "wkid": 31982,
   "latestWkid": 31982
  }
 },
 "initialExtent": {
  "xmin": 706353.7560727843,
  "ymin": 7087296.168306501,
  "xmax": 707654.6605155835,
  "ymax": 7088567.13290915,
  "spatialReference": {
   "wkid": 31982,
   "latestWkid": 31982
  }
 },
 "fullExtent": {
  "xmin": 706353.7560727843,
  "ymin": 7087296.168306501,
  "xmax": 707654.6605155835,
  "ymax": 7088567.13290915,
  "spatialReference": {
   "wkid": 31982,
   "latestWkid": 31982
  }
 },
 "sortableFields": "",
 "bandCount": 1,
 "pixelType": "F32",
 "minValues": [
  2.035662889480591
 ],
 "maxValues": [
  87.17396545410156
 ],
 "meanValues": [
  54.553009101026085
 ],
 "stdvValues": [
  23.248558271550777
 ],
 "hasMultidimensions": false,
 "pixelSizeX": 0.9999265509601546,
 "pixelSizeY": 0.9999721499993799,
 "datasetFormat": "FGDBR",
 "uncompressedSize": 6614284,
 "blockWidth": 128,
 "blockHeight": 128,
 "compressionType": "LZ77",
 "bandNames": [
  "Band_1"
 ],
 "allowCopy": true,
 "allowAnalysis": true,
 "itemAccess": false,
 "minPixelSize": 0,
 "maxPixelSize": 0,
 "copyrightText": "",
 "serviceDataType": "esriImageServiceDataTypeGeneric",
 "serviceSourceType": "esriImageServiceSourceTypeDataset",
 "objectIdField": "",
 "fields": [],
 "capabilities": "Image,Metadata,Mensuration",
 "defaultMosaicMethod": "Center",
 "allowedMosaicMethods": "",
 "sortField": "",
 "sortValue": null,
 "sortAscending": true,
 "mosaicOperator": "First",
 "defaultCompressionQuality": 75,
 "defaultResamplingMethod": "Bilinear",
 "maxImageHeight": 4100,
 "maxImageWidth": 15000,
 "allowRasterFunction": true,
 "rasterFunctionInfos": [
  {
   "name": "None",
   "description": "",
   "help": ""
  }
 ],
 "rasterTypeInfos": [
  {
   "name": "Raster Dataset",
   "description": "Supports all ArcGIS Raster Datasets",
   "help": ""
  }
 ],
 "mensurationCapabilities": "Basic",
 "hasHistograms": true,
 "hasColormap": false,
 "hasRasterAttributeTable": false,
 "minScale": 0,
 "maxScale": 0,
 "exportTilesAllowed": false,
 "supportsStatistics": false,
 "supportsAdvancedQueries": false,
 "editFieldsInfo": null,
 "ownershipBasedAccessControlForRasters": null,
 "allowComputeTiePoints": false,
 "useStandardizedQueries": true,
 "advancedQueryCapabilities": {
  "useStandardizedQueries": true,
  "supportsStatistics": false,
  "supportsOrderBy": false,
  "supportsDistinct": false,
  "supportsPagination": false
 },
 "spatialReference": {
  "wkid": 31982,
  "latestWkid": 31982
 }
}
