View In:
ArcGIS JavaScript
ArcGIS Online Map Viewer
ArcGIS Earth
Service Description: simgeo/cone_sshr
Name: simgeo/cone_sshr
Description:
Single Fused Map Cache: false
Extent:
XMin: 714025.1925717504
YMin: 7085767.21088915
XMax: 714792.1362363368
YMax: 7086773.18287205
Spatial Reference: 31982
(31982)
LatestVCSWkid(0)
Initial Extent:
XMin: 714025.1925717504
YMin: 7085767.21088915
XMax: 714792.1362363368
YMax: 7086773.18287205
Spatial Reference: 31982
(31982)
LatestVCSWkid(0)
Full Extent:
XMin: 714025.1925717504
YMin: 7085767.21088915
XMax: 714792.1362363368
YMax: 7086773.18287205
Spatial Reference: 31982
(31982)
LatestVCSWkid(0)
Pixel Size X: 0.99992655096011
Pixel Size Y: 0.9999721500000529
Band Count: 1
Pixel Type: F32
RasterFunction Infos: {"rasterFunctionInfos": [{
"name": "None",
"description": "",
"help": ""
}]}
Mensuration Capabilities: Basic
Has Histograms: true
Has Colormap: false
Has Multi Dimensions : false
Rendering Rule:
Min Scale: 0
Max Scale: 0
Copyright Text:
Service Data Type: esriImageServiceDataTypeGeneric
Min Values: 6.240259170532227
Max Values: 158.84390258789062
Mean Values: 79.96372273500478
Standard Deviation Values: 39.71749479476704
Object ID Field:
Fields:
None
Default Mosaic Method: Center
Allowed Mosaic Methods:
SortField:
SortValue: null
Mosaic Operator: First
Default Compression Quality: 75
Default Resampling Method: Bilinear
Max Record Count: null
Max Image Height: 4100
Max Image Width: 15000
Max Download Image Count: null
Max Mosaic Image Count: null
Allow Raster Function: true
Allow Copy: true
Allow Analysis: true
Allow Compute TiePoints: false
Supports Statistics: false
Supports Advanced Queries: false
Use StandardizedQueries: true
Raster Type Infos:
Name: Raster Dataset
Description: Supports all ArcGIS Raster Datasets
Help:
Has Raster Attribute Table: false
Edit Fields Info: null
Ownership Based AccessControl For Rasters: null
Child Resources:
Info
Histograms
Statistics
Key Properties
Legend
Raster Function Infos
Supported Operations:
Export Image
Identify
Measure
Compute Histograms
Compute Statistics Histograms
Get Samples
Compute Class Statistics
Query Boundary
Compute Pixel Location
Compute Angles
Validate
Project