View In:
ArcGIS JavaScript
ArcGIS Online Map Viewer
ArcGIS Earth
Service Description: simgeo/cone_snmq
Name: simgeo/cone_snmq
Description:
Single Fused Map Cache: false
Extent:
XMin: 713008.2672694239
YMin: 7087443.16421255
XMax: 714105.1866958272
YMax: 7087777.15491065
Spatial Reference: 31982
(31982)
LatestVCSWkid(0)
Initial Extent:
XMin: 713008.2672694239
YMin: 7087443.16421255
XMax: 714105.1866958272
YMax: 7087777.15491065
Spatial Reference: 31982
(31982)
LatestVCSWkid(0)
Full Extent:
XMin: 713008.2672694239
YMin: 7087443.16421255
XMax: 714105.1866958272
YMax: 7087777.15491065
Spatial Reference: 31982
(31982)
LatestVCSWkid(0)
Pixel Size X: 0.9999265509601105
Pixel Size Y: 0.9999721500002027
Band Count: 1
Pixel Type: F32
RasterFunction Infos: {"rasterFunctionInfos": [{
"name": "None",
"description": "",
"help": ""
}]}
Mensuration Capabilities: Basic
Has Histograms: true
Has Colormap: false
Has Multi Dimensions : false
Rendering Rule:
Min Scale: 0
Max Scale: 0
Copyright Text:
Service Data Type: esriImageServiceDataTypeGeneric
Min Values: 1.4081794023513794
Max Values: 177.03692626953125
Mean Values: 95.49068035570411
Standard Deviation Values: 47.797569385903884
Object ID Field:
Fields:
None
Default Mosaic Method: Center
Allowed Mosaic Methods:
SortField:
SortValue: null
Mosaic Operator: First
Default Compression Quality: 75
Default Resampling Method: Bilinear
Max Record Count: null
Max Image Height: 4100
Max Image Width: 15000
Max Download Image Count: null
Max Mosaic Image Count: null
Allow Raster Function: true
Allow Copy: true
Allow Analysis: true
Allow Compute TiePoints: false
Supports Statistics: false
Supports Advanced Queries: false
Use StandardizedQueries: true
Raster Type Infos:
Name: Raster Dataset
Description: Supports all ArcGIS Raster Datasets
Help:
Has Raster Attribute Table: false
Edit Fields Info: null
Ownership Based AccessControl For Rasters: null
Child Resources:
Info
Histograms
Statistics
Key Properties
Legend
Raster Function Infos
Supported Operations:
Export Image
Identify
Measure
Compute Histograms
Compute Statistics Histograms
Get Samples
Compute Class Statistics
Query Boundary
Compute Pixel Location
Compute Angles
Validate
Project