View In:
ArcGIS JavaScript
ArcGIS Online Map Viewer
ArcGIS Earth
Service Description: simgeo/cone_sjvl
Name: simgeo/cone_sjvl
Description:
Single Fused Map Cache: false
Extent:
XMin: 712346.3158926883
YMin: 7075568.4949313
XMax: 714854.1316824964
YMax: 7076147.47880615
Spatial Reference: 31982
(31982)
LatestVCSWkid(0)
Initial Extent:
XMin: 712346.3158926883
YMin: 7075568.4949313
XMax: 714854.1316824964
YMax: 7076147.47880615
Spatial Reference: 31982
(31982)
LatestVCSWkid(0)
Full Extent:
XMin: 712346.3158926883
YMin: 7075568.4949313
XMax: 714854.1316824964
YMax: 7076147.47880615
Spatial Reference: 31982
(31982)
LatestVCSWkid(0)
Pixel Size X: 0.9999265509601489
Pixel Size Y: 0.999972149999957
Band Count: 1
Pixel Type: F32
RasterFunction Infos: {"rasterFunctionInfos": [{
"name": "None",
"description": "",
"help": ""
}]}
Mensuration Capabilities: Basic
Has Histograms: true
Has Colormap: false
Has Multi Dimensions : false
Rendering Rule:
Min Scale: 0
Max Scale: 0
Copyright Text:
Service Data Type: esriImageServiceDataTypeGeneric
Min Values: 46.51356887817383
Max Values: 104.64861297607422
Mean Values: 83.08332945952905
Standard Deviation Values: 12.600224471397945
Object ID Field:
Fields:
None
Default Mosaic Method: Center
Allowed Mosaic Methods:
SortField:
SortValue: null
Mosaic Operator: First
Default Compression Quality: 75
Default Resampling Method: Bilinear
Max Record Count: null
Max Image Height: 4100
Max Image Width: 15000
Max Download Image Count: null
Max Mosaic Image Count: null
Allow Raster Function: true
Allow Copy: true
Allow Analysis: true
Allow Compute TiePoints: false
Supports Statistics: false
Supports Advanced Queries: false
Use StandardizedQueries: true
Raster Type Infos:
Name: Raster Dataset
Description: Supports all ArcGIS Raster Datasets
Help:
Has Raster Attribute Table: false
Edit Fields Info: null
Ownership Based AccessControl For Rasters: null
Child Resources:
Info
Histograms
Statistics
Key Properties
Legend
Raster Function Infos
Supported Operations:
Export Image
Identify
Measure
Compute Histograms
Compute Statistics Histograms
Get Samples
Compute Class Statistics
Query Boundary
Compute Pixel Location
Compute Angles
Validate
Project