View In:
ArcGIS JavaScript
ArcGIS Online Map Viewer
ArcGIS Earth
Service Description: simgeo/cone_sebastiao_machado
Name: simgeo/cone_sebastiao_machado
Description:
Single Fused Map Cache: false
Extent:
XMin: 715237.1035515141
YMin: 7088394.1377272
XMax: 716316.0243
YMax: 7089078.1186778005
Spatial Reference: 31982
(31982)
LatestVCSWkid(0)
Initial Extent:
XMin: 715237.1035515141
YMin: 7088394.1377272
XMax: 716316.0243
YMax: 7089078.1186778005
Spatial Reference: 31982
(31982)
LatestVCSWkid(0)
Full Extent:
XMin: 715237.1035515141
YMin: 7088394.1377272
XMax: 716316.0243
YMax: 7089078.1186778005
Spatial Reference: 31982
(31982)
LatestVCSWkid(0)
Pixel Size X: 0.9999265509601026
Pixel Size Y: 0.9999721500006836
Band Count: 1
Pixel Type: F32
RasterFunction Infos: {"rasterFunctionInfos": [{
"name": "None",
"description": "",
"help": ""
}]}
Mensuration Capabilities: Basic
Has Histograms: true
Has Colormap: false
Has Multi Dimensions : false
Rendering Rule:
Min Scale: 0
Max Scale: 0
Copyright Text:
Service Data Type: esriImageServiceDataTypeGeneric
Min Values: 40.95352554321289
Max Values: 181.219482421875
Mean Values: 116.14061566777286
Standard Deviation Values: 36.180030306116585
Object ID Field:
Fields:
None
Default Mosaic Method: Center
Allowed Mosaic Methods:
SortField:
SortValue: null
Mosaic Operator: First
Default Compression Quality: 75
Default Resampling Method: Bilinear
Max Record Count: null
Max Image Height: 4100
Max Image Width: 15000
Max Download Image Count: null
Max Mosaic Image Count: null
Allow Raster Function: true
Allow Copy: true
Allow Analysis: true
Allow Compute TiePoints: false
Supports Statistics: false
Supports Advanced Queries: false
Use StandardizedQueries: true
Raster Type Infos:
Name: Raster Dataset
Description: Supports all ArcGIS Raster Datasets
Help:
Has Raster Attribute Table: false
Edit Fields Info: null
Ownership Based AccessControl For Rasters: null
Child Resources:
Info
Histograms
Statistics
Key Properties
Legend
Raster Function Infos
Supported Operations:
Export Image
Identify
Measure
Compute Histograms
Compute Statistics Histograms
Get Samples
Compute Class Statistics
Query Boundary
Compute Pixel Location
Compute Angles
Validate
Project