View In:
ArcGIS JavaScript
ArcGIS Online Map Viewer
ArcGIS Earth
Service Description: simgeo/cone_catarina
Name: simgeo/cone_catarina
Description:
Single Fused Map Cache: false
Extent:
XMin: 708503.5981573486
YMin: 7092152.0330669
XMax: 709033.5592293575
YMax: 7093305.00095585
Spatial Reference: 31982
(31982)
LatestVCSWkid(0)
Initial Extent:
XMin: 708503.5981573486
YMin: 7092152.0330669
XMax: 709033.5592293575
YMax: 7093305.00095585
Spatial Reference: 31982
(31982)
LatestVCSWkid(0)
Full Extent:
XMin: 708503.5981573486
YMin: 7092152.0330669
XMax: 709033.5592293575
YMax: 7093305.00095585
Spatial Reference: 31982
(31982)
LatestVCSWkid(0)
Pixel Size X: 0.9999265509602648
Pixel Size Y: 0.9999721499995133
Band Count: 1
Pixel Type: F32
RasterFunction Infos: {"rasterFunctionInfos": [{
"name": "None",
"description": "",
"help": ""
}]}
Mensuration Capabilities: Basic
Has Histograms: true
Has Colormap: false
Has Multi Dimensions : false
Rendering Rule:
Min Scale: 0
Max Scale: 0
Copyright Text:
Service Data Type: esriImageServiceDataTypeGeneric
Min Values: 1.8168525695800781
Max Values: 147.4839324951172
Mean Values: 79.63509082499328
Standard Deviation Values: 37.28485110760124
Object ID Field:
Fields:
None
Default Mosaic Method: Center
Allowed Mosaic Methods:
SortField:
SortValue: null
Mosaic Operator: First
Default Compression Quality: 75
Default Resampling Method: Bilinear
Max Record Count: null
Max Image Height: 4100
Max Image Width: 15000
Max Download Image Count: null
Max Mosaic Image Count: null
Allow Raster Function: true
Allow Copy: true
Allow Analysis: true
Allow Compute TiePoints: false
Supports Statistics: false
Supports Advanced Queries: false
Use StandardizedQueries: true
Raster Type Infos:
Name: Raster Dataset
Description: Supports all ArcGIS Raster Datasets
Help:
Has Raster Attribute Table: false
Edit Fields Info: null
Ownership Based AccessControl For Rasters: null
Child Resources:
Info
Histograms
Statistics
Key Properties
Legend
Raster Function Infos
Supported Operations:
Export Image
Identify
Measure
Compute Histograms
Compute Statistics Histograms
Get Samples
Compute Class Statistics
Query Boundary
Compute Pixel Location
Compute Angles
Validate
Project