{
 "currentVersion": 11.1,
 "serviceDescription": "simgeo/cone_sisq",
 "name": "simgeo/cone_sisq",
 "description": "",
 "extent": {
  "xmin": 705484.8199,
  "ymin": 7088733.128286051,
  "xmax": 706304.7596717873,
  "ymax": 7089528.1061453,
  "spatialReference": {
   "wkid": 31982,
   "latestWkid": 31982
  }
 },
 "initialExtent": {
  "xmin": 705484.8199,
  "ymin": 7088733.128286051,
  "xmax": 706304.7596717873,
  "ymax": 7089528.1061453,
  "spatialReference": {
   "wkid": 31982,
   "latestWkid": 31982
  }
 },
 "fullExtent": {
  "xmin": 705484.8199,
  "ymin": 7088733.128286051,
  "xmax": 706304.7596717873,
  "ymax": 7089528.1061453,
  "spatialReference": {
   "wkid": 31982,
   "latestWkid": 31982
  }
 },
 "sortableFields": "",
 "bandCount": 1,
 "pixelType": "F32",
 "minValues": [
  2.8338077068328857
 ],
 "maxValues": [
  151.88072204589844
 ],
 "meanValues": [
  84.73598180872548
 ],
 "stdvValues": [
  40.40959025727728
 ],
 "hasMultidimensions": false,
 "pixelSizeX": 0.9999265509600774,
 "pixelSizeY": 0.999972149999168,
 "datasetFormat": "FGDBR",
 "uncompressedSize": 2607600,
 "blockWidth": 128,
 "blockHeight": 128,
 "compressionType": "LZ77",
 "bandNames": [
  "Band_1"
 ],
 "allowCopy": true,
 "allowAnalysis": true,
 "itemAccess": false,
 "minPixelSize": 0,
 "maxPixelSize": 0,
 "copyrightText": "",
 "serviceDataType": "esriImageServiceDataTypeGeneric",
 "serviceSourceType": "esriImageServiceSourceTypeDataset",
 "objectIdField": "",
 "fields": [],
 "capabilities": "Mensuration,Image,Metadata",
 "defaultMosaicMethod": "Center",
 "allowedMosaicMethods": "",
 "sortField": "",
 "sortValue": null,
 "sortAscending": true,
 "mosaicOperator": "First",
 "defaultCompressionQuality": 75,
 "defaultResamplingMethod": "Bilinear",
 "maxImageHeight": 4100,
 "maxImageWidth": 15000,
 "allowRasterFunction": true,
 "rasterFunctionInfos": [
  {
   "name": "None",
   "description": "",
   "help": ""
  }
 ],
 "rasterTypeInfos": [
  {
   "name": "Raster Dataset",
   "description": "Supports all ArcGIS Raster Datasets",
   "help": ""
  }
 ],
 "mensurationCapabilities": "Basic",
 "hasHistograms": true,
 "hasColormap": false,
 "hasRasterAttributeTable": false,
 "minScale": 0,
 "maxScale": 0,
 "exportTilesAllowed": false,
 "supportsStatistics": false,
 "supportsAdvancedQueries": false,
 "editFieldsInfo": null,
 "ownershipBasedAccessControlForRasters": null,
 "allowComputeTiePoints": false,
 "useStandardizedQueries": true,
 "advancedQueryCapabilities": {
  "useStandardizedQueries": true,
  "supportsStatistics": false,
  "supportsOrderBy": false,
  "supportsDistinct": false,
  "supportsPagination": false
 },
 "spatialReference": {
  "wkid": 31982,
  "latestWkid": 31982
 }
}
