{
 "currentVersion": 11.1,
 "serviceDescription": "SJVL",
 "name": "SJVL",
 "description": "",
 "extent": {
  "xmin": 712346.3158926883,
  "ymin": 7075568.4949313,
  "xmax": 714854.1316824964,
  "ymax": 7076147.47880615,
  "spatialReference": {
   "wkid": 31982,
   "latestWkid": 31982
  }
 },
 "initialExtent": {
  "xmin": 712346.3158926883,
  "ymin": 7075568.4949313,
  "xmax": 714854.1316824964,
  "ymax": 7076147.47880615,
  "spatialReference": {
   "wkid": 31982,
   "latestWkid": 31982
  }
 },
 "fullExtent": {
  "xmin": 712346.3158926883,
  "ymin": 7075568.4949313,
  "xmax": 714854.1316824964,
  "ymax": 7076147.47880615,
  "spatialReference": {
   "wkid": 31982,
   "latestWkid": 31982
  }
 },
 "sortableFields": "",
 "bandCount": 1,
 "pixelType": "F32",
 "minValues": [
  46.51356887817383
 ],
 "maxValues": [
  104.64861297607422
 ],
 "meanValues": [
  83.08332945952905
 ],
 "stdvValues": [
  12.600224471397945
 ],
 "hasMultidimensions": false,
 "pixelSizeX": 0.9999265509601489,
 "pixelSizeY": 0.999972149999957,
 "datasetFormat": "FGDBR",
 "uncompressedSize": 5808528,
 "blockWidth": 128,
 "blockHeight": 128,
 "compressionType": "LZ77",
 "bandNames": [
  "Band_1"
 ],
 "allowCopy": true,
 "allowAnalysis": true,
 "itemAccess": false,
 "minPixelSize": 0,
 "maxPixelSize": 0,
 "copyrightText": "",
 "serviceDataType": "esriImageServiceDataTypeGeneric",
 "serviceSourceType": "esriImageServiceSourceTypeDataset",
 "objectIdField": "",
 "fields": [],
 "capabilities": "Mensuration,Image,Metadata",
 "defaultMosaicMethod": "Center",
 "allowedMosaicMethods": "",
 "sortField": "",
 "sortValue": null,
 "sortAscending": true,
 "mosaicOperator": "First",
 "defaultCompressionQuality": 75,
 "defaultResamplingMethod": "Bilinear",
 "maxImageHeight": 4100,
 "maxImageWidth": 15000,
 "allowRasterFunction": true,
 "rasterFunctionInfos": [
  {
   "name": "None",
   "description": "",
   "help": ""
  }
 ],
 "rasterTypeInfos": [
  {
   "name": "Raster Dataset",
   "description": "Supports all ArcGIS Raster Datasets",
   "help": ""
  }
 ],
 "mensurationCapabilities": "Basic",
 "hasHistograms": true,
 "hasColormap": false,
 "hasRasterAttributeTable": false,
 "minScale": 0,
 "maxScale": 0,
 "exportTilesAllowed": false,
 "supportsStatistics": false,
 "supportsAdvancedQueries": false,
 "editFieldsInfo": null,
 "ownershipBasedAccessControlForRasters": null,
 "allowComputeTiePoints": false,
 "useStandardizedQueries": true,
 "advancedQueryCapabilities": {
  "useStandardizedQueries": true,
  "supportsStatistics": false,
  "supportsOrderBy": false,
  "supportsDistinct": false,
  "supportsPagination": false
 },
 "spatialReference": {
  "wkid": 31982,
  "latestWkid": 31982
 }
}
